BEGIN:VCALENDAR
VERSION:2.0
PRODID:-//hacksw/handcal//NONSGML v1.0//EN
BEGIN:VEVENT
SUMMARY:Competition Super U + Open des abonnes
UID:07839cb9-c707-41e6-bcf5-ecc648b24bc1
DTSTART:20260530T220000Z
DTEND:20260531T220000Z
LOCATION:Localisation   
CATEGORIES:Sportif
STATUS:
URL;VALUE=URI:https://www.asgolfsaintlaurent.com/evenements/2026/05/31/competition-super-u-open-des-abonnes-2414818
END:VEVENT
END:VCALENDAR
