BEGIN:VCALENDAR
VERSION:2.0
PRODID:-//hacksw/handcal//NONSGML v1.0//EN
BEGIN:VEVENT
SUMMARY:Championnat de France Messieurs seniors 3 par equipes au golf de Guerande 2e division
UID:94665214-2215-4a4e-82e6-7745cbfdf01a
DTSTART:20260609T220000Z
DTEND:20260612T220000Z
LOCATION:Localisation   
CATEGORIES:Sportif
STATUS:
URL;VALUE=URI:https://www.asgolfsaintlaurent.com/evenements/2026/06/10/championnat-de-france-messieurs-seniors-3-par-equipes-au-golf-de-guerande-2e-division-2415282
END:VEVENT
END:VCALENDAR
