BEGIN:VCALENDAR
VERSION:2.0
PRODID:-//hacksw/handcal//NONSGML v1.0//EN
BEGIN:VEVENT
SUMMARY:Les mardis de l'ete + SWC
UID:39818a70-6457-4494-9aa4-ce029d6f50c2
DTSTART:20260720T220000Z
DTEND:20260721T220000Z
LOCATION:Localisation   
CATEGORIES:Sportif
STATUS:
URL;VALUE=URI:https://www.asgolfsaintlaurent.com/evenements/2026/07/21/les-mardis-de-lete-swc-2433925
END:VEVENT
END:VCALENDAR
