BEGIN:VCALENDAR
VERSION:2.0
PRODID:-//hacksw/handcal//NONSGML v1.0//EN
BEGIN:VEVENT
SUMMARY:Competition Capfinances
UID:ed7ea0af-9aa0-4b61-942e-d4ffabe3a69d
DTSTART:20260725T220000Z
DTEND:20260726T220000Z
LOCATION:Localisation   
CATEGORIES:Sportif
STATUS:
URL;VALUE=URI:https://www.asgolfsaintlaurent.com/evenements/2026/07/26/competition-capfinances-2433950
END:VEVENT
END:VCALENDAR
