BEGIN:VCALENDAR
VERSION:2.0
PRODID:-//hacksw/handcal//NONSGML v1.0//EN
BEGIN:VEVENT
SUMMARY:Les mardis de l'ete + SWC
UID:f391a032-5fb2-4c38-8832-943805edd5fd
DTSTART:20260727T220000Z
DTEND:20260728T220000Z
LOCATION:Localisation   
CATEGORIES:Sportif
STATUS:
URL;VALUE=URI:https://www.asgolfsaintlaurent.com/evenements/2026/07/28/les-mardis-de-lete-swc-2433922
END:VEVENT
END:VCALENDAR
