BEGIN:VCALENDAR
VERSION:2.0
PRODID:-//hacksw/handcal//NONSGML v1.0//EN
BEGIN:VEVENT
SUMMARY:Competition Les enfants du soleil
UID:ef713723-7d41-4e00-be31-ed5a9708267f
DTSTART:20260808T220000Z
DTEND:20260809T220000Z
LOCATION:Localisation   
CATEGORIES:Sportif
STATUS:
URL;VALUE=URI:https://www.asgolfsaintlaurent.com/evenements/2026/08/09/competition-les-enfants-du-soleil-2433932
END:VEVENT
END:VCALENDAR
