BEGIN:VCALENDAR
VERSION:2.0
PRODID:-//hacksw/handcal//NONSGML v1.0//EN
BEGIN:VEVENT
SUMMARY:Les mardis de l'ete + SWC
UID:060337a1-9d34-4c40-a2e7-bbcd6d5e78ba
DTSTART:20260810T220000Z
DTEND:20260811T220000Z
LOCATION:Localisation   
CATEGORIES:Sportif
STATUS:
URL;VALUE=URI:https://www.asgolfsaintlaurent.com/evenements/2026/08/11/les-mardis-de-lete-swc-2433923
END:VEVENT
END:VCALENDAR
