BEGIN:VCALENDAR
VERSION:2.0
PRODID:-//hacksw/handcal//NONSGML v1.0//EN
BEGIN:VEVENT
SUMMARY:Les mardis de l'ete
UID:73882324-ef89-4897-86dc-d5c66646b1ad
DTSTART:20260824T220000Z
DTEND:20260825T220000Z
LOCATION:Localisation   
CATEGORIES:Sportif
STATUS:
URL;VALUE=URI:https://www.asgolfsaintlaurent.com/evenements/2026/08/25/les-mardis-de-lete-2433935
END:VEVENT
END:VCALENDAR
