BEGIN:VCALENDAR
VERSION:2.0
PRODID:-//hacksw/handcal//NONSGML v1.0//EN
BEGIN:VEVENT
SUMMARY:Competition Illico Auray
UID:73e0b3d7-56e3-4ff6-9143-1990c9284cd2
DTSTART:20260829T220000Z
DTEND:20260830T220000Z
LOCATION:Localisation   
CATEGORIES:Sportif
STATUS:
URL;VALUE=URI:https://www.asgolfsaintlaurent.com/evenements/2026/08/30/competition-illico-auray-2433930
END:VEVENT
END:VCALENDAR
